BEGIN:VCALENDAR
VERSION:2.0
PRODID:spatie/icalendar-generator
DESCRIPTION:Events from East Lancashire Ornithologists Club
X-WR-CALDESC:Events from East Lancashire Ornithologists Club
REFRESH-INTERVAL;VALUE=DURATION:PT1440M
X-PUBLISHED-TTL:PT1440M
BEGIN:VTIMEZONE
TZID:Europe/London
BEGIN:STANDARD
DTSTART:20241027T020000Z
TZOFFSETFROM:+0100
TZOFFSETTO:+0000
END:STANDARD
BEGIN:DAYLIGHT
DTSTART:20250330T010000Z
TZOFFSETFROM:+0000
TZOFFSETTO:+0100
END:DAYLIGHT
END:VTIMEZONE
BEGIN:VTIMEZONE
TZID:UTC
BEGIN:STANDARD
DTSTART:20250723T124526Z
TZOFFSETFROM:+0000
TZOFFSETTO:+0000
END:STANDARD
END:VTIMEZONE
BEGIN:VEVENT
UID:9-6
DTSTAMP:20260419T124526Z
SUMMARY:Cockersand Abbey &amp;amp\; Eagland Hill
LOCATION:Cockersands Country Park Park Moss Lane  Cockerham  LA2 0BB
ORGANIZER;CN=Nigel Leeming:MAILTO:nigel.leeming@btinternet.com
DTSTART;TZID=Europe/London:20250111T080000
DTEND;TZID=Europe/London:20250111T170000
X-ALT-DESC;FMTTYPE=TEXT/HTML:11th January – 8.00am Cockersand Abbey &amp;amp
 \; Eagland Hill Target Species: Waders\, Buntings and Swan Meet at Cocker
 sands Country Park Caravan ParkMoss Lane\, Cockerham LA2 0BB. What 3 words
  ///nuance.overpaid.fields.  This will be a day out around Glassen dock a
 nd the wider area.  We intend to check out waders on the hightide and the
 n the local Swan&amp;hellip\;
CATEGORIES:Field Trip
URL;VALUE=URI:https://eastlancsornithologists.org.uk/mc-events/cockersand-a
 bbey-eagland-hill/
METHOD:PUBLISH
END:VEVENT
END:VCALENDAR