BEGIN:VCALENDAR
VERSION:2.0
PRODID:spatie/icalendar-generator
DESCRIPTION:Events from East Lancashire Ornithologists Club
X-WR-CALDESC:Events from East Lancashire Ornithologists Club
REFRESH-INTERVAL;VALUE=DURATION:PT1440M
X-PUBLISHED-TTL:PT1440M
BEGIN:VTIMEZONE
TZID:Europe/London
BEGIN:STANDARD
DTSTART:20251026T020000Z
TZOFFSETFROM:+0100
TZOFFSETTO:+0000
END:STANDARD
BEGIN:DAYLIGHT
DTSTART:20260329T010000Z
TZOFFSETFROM:+0000
TZOFFSETTO:+0100
END:DAYLIGHT
BEGIN:STANDARD
DTSTART:20261025T020000Z
TZOFFSETFROM:+0100
TZOFFSETTO:+0000
END:STANDARD
END:VTIMEZONE
BEGIN:VTIMEZONE
TZID:UTC
BEGIN:STANDARD
DTSTART:20250727T153148Z
TZOFFSETFROM:+0000
TZOFFSETTO:+0000
END:STANDARD
END:VTIMEZONE
BEGIN:VEVENT
UID:51-36
DTSTAMP:20260423T153148Z
SUMMARY:Weekend Away to Lochwinnoch RSPB and Ayrshire
LOCATION:RSPB Lochwinnoch Largs Road  Lochwinnoch  PA12 4JF
ORGANIZER;CN=Andrew Powell:MAILTO:powell.andrew@talktalk.net
DTSTART;TZID=Europe/London;VALUE=DATE:20260516
DTEND;TZID=Europe/London;VALUE=DATE:20260518
X-ALT-DESC;FMTTYPE=TEXT/HTML:Full details to follow meet Saturday and Sunda
 y staying over near Dumbarton. Potential sites Loch Doon (osprey)\, Glen A
 fton (NS632080) Irvine
CATEGORIES:Field Trip
URL;VALUE=URI:https://eastlancsornithologists.org.uk/mc-events/weekend-away
 -to-lochwinnoch-rspb-and-ayrshire/
METHOD:PUBLISH
END:VEVENT
END:VCALENDAR