BEGIN:VCALENDAR
VERSION:2.0
PRODID:spatie/icalendar-generator
DESCRIPTION:Events from East Lancashire Ornithologists Club
X-WR-CALDESC:Events from East Lancashire Ornithologists Club
REFRESH-INTERVAL;VALUE=DURATION:PT1440M
X-PUBLISHED-TTL:PT1440M
BEGIN:VTIMEZONE
TZID:Europe/London
BEGIN:STANDARD
DTSTART:20251026T020000Z
TZOFFSETFROM:+0100
TZOFFSETTO:+0000
END:STANDARD
BEGIN:DAYLIGHT
DTSTART:20260329T010000Z
TZOFFSETFROM:+0000
TZOFFSETTO:+0100
END:DAYLIGHT
END:VTIMEZONE
BEGIN:VTIMEZONE
TZID:UTC
BEGIN:STANDARD
DTSTART:20250727T152959Z
TZOFFSETFROM:+0000
TZOFFSETTO:+0000
END:STANDARD
END:VTIMEZONE
BEGIN:VEVENT
UID:44-35
DTSTAMP:20260423T152959Z
SUMMARY:RSPB Fairburn Ings
LOCATION:RSPB Fairburn Ings Newton Lane  Castleford  WF10 2BH
ORGANIZER;CN=Andrew Powell:MAILTO:powell.andrew@talktalk.net
DTSTART;TZID=Europe/London:20260418T080000
DTEND;TZID=Europe/London:20260418T090000
X-ALT-DESC;FMTTYPE=TEXT/HTML:A day visiting this RSPB reserve meet at the r
 eserve carpark WF10 2BH (///jazz.survey.crash) We will walk around the We
 st side of the reserve before coming back to the centre for lunch and then
  investigate the East side of the reserve. Target species migrants\, Heron
 s and Grebes Boots recommended
CATEGORIES:Field Trip
URL;VALUE=URI:https://eastlancsornithologists.org.uk/mc-events/rspb-fairbur
 n-ings/
METHOD:PUBLISH
END:VEVENT
END:VCALENDAR