BEGIN:VCALENDAR
VERSION:2.0
PRODID:spatie/icalendar-generator
DESCRIPTION:Events from East Lancashire Ornithologists Club
X-WR-CALDESC:Events from East Lancashire Ornithologists Club
REFRESH-INTERVAL;VALUE=DURATION:PT1440M
X-PUBLISHED-TTL:PT1440M
BEGIN:VTIMEZONE
TZID:Europe/London
BEGIN:STANDARD
DTSTART:20251026T020000Z
TZOFFSETFROM:+0100
TZOFFSETTO:+0000
END:STANDARD
BEGIN:DAYLIGHT
DTSTART:20260329T010000Z
TZOFFSETFROM:+0000
TZOFFSETTO:+0100
END:DAYLIGHT
END:VTIMEZONE
BEGIN:VTIMEZONE
TZID:UTC
BEGIN:STANDARD
DTSTART:20250725T122241Z
TZOFFSETFROM:+0000
TZOFFSETTO:+0000
END:STANDARD
END:VTIMEZONE
BEGIN:VEVENT
UID:41-32
DTSTAMP:20260421T122241Z
SUMMARY:Heysham and Sunderland Point
LOCATION:Ocean Edge Holiday Park\, Heysham Money Close Lane Heysham Morecam
 be  LA3 2XA
ORGANIZER;CN=Andrew Powell:MAILTO:powell.andrew@talktalk.net
DTSTART;TZID=Europe/London:20260117T080000
DTEND;TZID=Europe/London:20260117T090000
X-ALT-DESC;FMTTYPE=TEXT/HTML:Start the year with a trip primarily for wader
 s making use of the tide.  Meet at (///dignitary.boating.pocket) at a pul
 l in prior to the Ocean Edge Holiday park on Moneyclose lane Heysham LA3 2
 XA.  High tide is around 10.20 am.  We will walk the perimeter of the po
 wer station on the concrete path overlooking the&amp;hellip\;
CATEGORIES:Field Trip
URL;VALUE=URI:https://eastlancsornithologists.org.uk/mc-events/heysham-and-
 sunderland-point/
METHOD:PUBLISH
END:VEVENT
END:VCALENDAR