BEGIN:VCALENDAR
VERSION:2.0
PRODID:spatie/icalendar-generator
DESCRIPTION:Events from East Lancashire Ornithologists Club
X-WR-CALDESC:Events from East Lancashire Ornithologists Club
REFRESH-INTERVAL;VALUE=DURATION:PT1440M
X-PUBLISHED-TTL:PT1440M
BEGIN:VTIMEZONE
TZID:Europe/London
BEGIN:STANDARD
DTSTART:20251026T020000Z
TZOFFSETFROM:+0100
TZOFFSETTO:+0000
END:STANDARD
BEGIN:DAYLIGHT
DTSTART:20260329T010000Z
TZOFFSETFROM:+0000
TZOFFSETTO:+0100
END:DAYLIGHT
BEGIN:STANDARD
DTSTART:20261025T020000Z
TZOFFSETFROM:+0100
TZOFFSETTO:+0000
END:STANDARD
END:VTIMEZONE
BEGIN:VTIMEZONE
TZID:UTC
BEGIN:STANDARD
DTSTART:20250727T140800Z
TZOFFSETFROM:+0000
TZOFFSETTO:+0000
END:STANDARD
END:VTIMEZONE
BEGIN:VEVENT
UID:38-26
DTSTAMP:20260423T140800Z
SUMMARY:The History of the Idle Valley Nature Reserve - Gary Hobson
LOCATION:Higham Village Hall Higham Hall Road  Higham Lancashire BB12 9EU
ORGANIZER;CN=Andrew Powell:MAILTO:powell.andrew@talktalk.net
DTSTART;TZID=Europe/London:20260505T193000
DTEND;TZID=Europe/London:20260505T203000
X-ALT-DESC;FMTTYPE=TEXT/HTML:
CATEGORIES:Indoor Meeting
URL;VALUE=URI:https://eastlancsornithologists.org.uk/mc-events/the-history-
 of-the-idle-valley-nature-reserve-gary-hobson/
METHOD:PUBLISH
END:VEVENT
END:VCALENDAR