BEGIN:VCALENDAR
VERSION:2.0
PRODID:spatie/icalendar-generator
DESCRIPTION:Events from East Lancashire Ornithologists Club
X-WR-CALDESC:Events from East Lancashire Ornithologists Club
REFRESH-INTERVAL;VALUE=DURATION:PT1440M
X-PUBLISHED-TTL:PT1440M
BEGIN:VTIMEZONE
TZID:Europe/London
BEGIN:STANDARD
DTSTART:20241027T020000Z
TZOFFSETFROM:+0100
TZOFFSETTO:+0000
END:STANDARD
BEGIN:DAYLIGHT
DTSTART:20250330T010000Z
TZOFFSETFROM:+0000
TZOFFSETTO:+0100
END:DAYLIGHT
BEGIN:STANDARD
DTSTART:20251026T020000Z
TZOFFSETFROM:+0100
TZOFFSETTO:+0000
END:STANDARD
END:VTIMEZONE
BEGIN:VTIMEZONE
TZID:UTC
BEGIN:STANDARD
DTSTART:20250727T152832Z
TZOFFSETFROM:+0000
TZOFFSETTO:+0000
END:STANDARD
END:VTIMEZONE
BEGIN:VEVENT
UID:25-10
DTSTAMP:20260423T152832Z
SUMMARY:June evening walk - Stocks Reservoir/Bottoms Beck
LOCATION:
ORGANIZER;CN=David Bickerton:MAILTO:bickertond@aol.com
DTSTART;TZID=Europe/London:20250603T190000
DTEND;TZID=Europe/London:20250603T213000
X-ALT-DESC;FMTTYPE=TEXT/HTML:Club Evening Walk meeting at Stocks Reservoir 
 carpark at 7.00pm (///milky.dancer.descended). We will then walk along Bot
 toms Beck . Further details after recce.
CATEGORIES:Field Trip
URL;VALUE=URI:https://eastlancsornithologists.org.uk/mc-events/june-evening
 -walk-stocks-reservoir-bottoms-beck/
METHOD:PUBLISH
END:VEVENT
END:VCALENDAR