BEGIN:VCALENDAR
VERSION:2.0
PRODID:spatie/icalendar-generator
DESCRIPTION:Events from East Lancashire Ornithologists Club
X-WR-CALDESC:Events from East Lancashire Ornithologists Club
REFRESH-INTERVAL;VALUE=DURATION:PT1440M
X-PUBLISHED-TTL:PT1440M
BEGIN:VTIMEZONE
TZID:Europe/London
BEGIN:DAYLIGHT
DTSTART:20250330T010000Z
TZOFFSETFROM:+0000
TZOFFSETTO:+0100
END:DAYLIGHT
BEGIN:STANDARD
DTSTART:20251026T020000Z
TZOFFSETFROM:+0100
TZOFFSETTO:+0000
END:STANDARD
END:VTIMEZONE
BEGIN:VTIMEZONE
TZID:UTC
BEGIN:STANDARD
DTSTART:20250727T153558Z
TZOFFSETFROM:+0000
TZOFFSETTO:+0000
END:STANDARD
END:VTIMEZONE
BEGIN:VEVENT
UID:22-19
DTSTAMP:20260423T153558Z
SUMMARY:New Brighton\, Mersey &amp;amp\; Burton Mere
LOCATION:New Brighton Promenade   Wallasey  CH45 2JS
ORGANIZER;CN=Nigel Leeming:MAILTO:nigel.leeming@btinternet.com
DTSTART;TZID=Europe/London:20250906T073000
DTEND;TZID=Europe/London:20250906T083000
X-ALT-DESC;FMTTYPE=TEXT/HTML:6th September 7.30 am       New Bright
 on\, Mersey &amp;amp\; Burton Mere Target species\; Seabirds &amp;amp\; Waders Sep
 tember can be a good time for NW winds blowing interesting seabirds up the
  Mersey.  Meet New Brighton Promenade\, Marine Promenade\, Wallasey\, Eng
 land CH45 2JS\, (///kicks.tests.muddy).  If the weather doesn’t play 
 game\, we will investigate the Wirral coastline and make our way down to&amp;h
 ellip\;
CATEGORIES:Field Trip
URL;VALUE=URI:https://eastlancsornithologists.org.uk/mc-events/new-brighton
 -mersey-burton-mere/
METHOD:PUBLISH
END:VEVENT
END:VCALENDAR