BEGIN:VCALENDAR
VERSION:2.0
PRODID:spatie/icalendar-generator
DESCRIPTION:Events from East Lancashire Ornithologists Club
X-WR-CALDESC:Events from East Lancashire Ornithologists Club
REFRESH-INTERVAL;VALUE=DURATION:PT1440M
X-PUBLISHED-TTL:PT1440M
BEGIN:VTIMEZONE
TZID:Europe/London
BEGIN:STANDARD
DTSTART:20241027T020000Z
TZOFFSETFROM:+0100
TZOFFSETTO:+0000
END:STANDARD
BEGIN:DAYLIGHT
DTSTART:20250330T010000Z
TZOFFSETFROM:+0000
TZOFFSETTO:+0100
END:DAYLIGHT
END:VTIMEZONE
BEGIN:VTIMEZONE
TZID:UTC
BEGIN:STANDARD
DTSTART:20250727T193547Z
TZOFFSETFROM:+0000
TZOFFSETTO:+0000
END:STANDARD
END:VTIMEZONE
BEGIN:VEVENT
UID:18-15
DTSTAMP:20260423T193547Z
SUMMARY:RSPB St Aidens
LOCATION:St Aidens RSPB Astley Lane  Leeds  LS26 8AL
ORGANIZER;CN=Nigel Leeming:MAILTO:nigel.leeming@btinternet.com
DTSTART;TZID=Europe/London:20250405T073000
DTEND;TZID=Europe/London:20250405T083000
X-ALT-DESC;FMTTYPE=TEXT/HTML:5th April   7.30 am             
    RSPB St Aidens Flash Target species\; Bittern booming &amp;amp\; Black N
 ecked Grebe Meet at the main car park RSPB St Aidan’s Nature Park\, Astl
 ey Lane\, Leeds LS26 8AL at 8.00 am (///interest.bullion.evaded).  After 
 looking for the local Little owls in the dragline excavator compound we wi
 ll head off for the now&amp;hellip\;
CATEGORIES:Field Trip
URL;VALUE=URI:https://eastlancsornithologists.org.uk/mc-events/rspb-st-aide
 ns/
METHOD:PUBLISH
END:VEVENT
END:VCALENDAR