BEGIN:VCALENDAR
VERSION:2.0
PRODID:spatie/icalendar-generator
DESCRIPTION:Events from East Lancashire Ornithologists Club
X-WR-CALDESC:Events from East Lancashire Ornithologists Club
REFRESH-INTERVAL;VALUE=DURATION:PT1440M
X-PUBLISHED-TTL:PT1440M
BEGIN:VTIMEZONE
TZID:Europe/London
BEGIN:DAYLIGHT
DTSTART:20250330T010000Z
TZOFFSETFROM:+0000
TZOFFSETTO:+0100
END:DAYLIGHT
BEGIN:STANDARD
DTSTART:20251026T020000Z
TZOFFSETFROM:+0100
TZOFFSETTO:+0000
END:STANDARD
END:VTIMEZONE
BEGIN:VTIMEZONE
TZID:UTC
BEGIN:STANDARD
DTSTART:20250727T140628Z
TZOFFSETFROM:+0000
TZOFFSETTO:+0000
END:STANDARD
END:VTIMEZONE
BEGIN:VEVENT
UID:14-11
DTSTAMP:20260423T140628Z
SUMMARY:ELOC 70th Anniversary Talk - Choughs of Anglesey
LOCATION:Higham Village Hall Higham Hall Road  Higham Lancashire BB12 9EU
ORGANIZER;CN=David Bickerton:MAILTO:bickertond@aol.com
DTSTART;TZID=Europe/London:20250902T193000
DTEND;TZID=Europe/London:20250902T213000
X-ALT-DESC;FMTTYPE=TEXT/HTML:Jack Slattery
CATEGORIES:Indoor Meeting
URL;VALUE=URI:https://eastlancsornithologists.org.uk/mc-events/eloc-70th-an
 niversary-talk-choughs-of-anglesey/
METHOD:PUBLISH
END:VEVENT
END:VCALENDAR